BEGIN:VCALENDAR
VERSION:2.0
PRODID:-//Humber Valley Radio Control Flyers - ECPv6.15.20//NONSGML v1.0//EN
CALSCALE:GREGORIAN
METHOD:PUBLISH
X-ORIGINAL-URL:https://hvrcf.org/wp
X-WR-CALDESC:Events for Humber Valley Radio Control Flyers
REFRESH-INTERVAL;VALUE=DURATION:PT1H
X-Robots-Tag:noindex
X-PUBLISHED-TTL:PT1H
BEGIN:VTIMEZONE
TZID:America/Toronto
BEGIN:DAYLIGHT
TZOFFSETFROM:-0500
TZOFFSETTO:-0400
TZNAME:EDT
DTSTART:20240310T070000
END:DAYLIGHT
BEGIN:STANDARD
TZOFFSETFROM:-0400
TZOFFSETTO:-0500
TZNAME:EST
DTSTART:20241103T060000
END:STANDARD
BEGIN:DAYLIGHT
TZOFFSETFROM:-0500
TZOFFSETTO:-0400
TZNAME:EDT
DTSTART:20250309T070000
END:DAYLIGHT
BEGIN:STANDARD
TZOFFSETFROM:-0400
TZOFFSETTO:-0500
TZNAME:EST
DTSTART:20251102T060000
END:STANDARD
BEGIN:DAYLIGHT
TZOFFSETFROM:-0500
TZOFFSETTO:-0400
TZNAME:EDT
DTSTART:20260308T070000
END:DAYLIGHT
BEGIN:STANDARD
TZOFFSETFROM:-0400
TZOFFSETTO:-0500
TZNAME:EST
DTSTART:20261101T060000
END:STANDARD
BEGIN:DAYLIGHT
TZOFFSETFROM:-0500
TZOFFSETTO:-0400
TZNAME:EDT
DTSTART:20270314T070000
END:DAYLIGHT
BEGIN:STANDARD
TZOFFSETFROM:-0400
TZOFFSETTO:-0500
TZNAME:EST
DTSTART:20271107T060000
END:STANDARD
END:VTIMEZONE
BEGIN:VEVENT
DTSTART;TZID=America/Toronto:20250720T093000
DTEND;TZID=America/Toronto:20250720T140000
DTSTAMP:20260421T224217
CREATED:20250710T024621Z
LAST-MODIFIED:20250710T024621Z
UID:2835-1753003800-1753020000@hvrcf.org
SUMMARY:4th Annual Free Outdoor RC Swap Meet
DESCRIPTION:
URL:https://hvrcf.org/wp/event/4th-annual-free-outdoor-rc-swap-meet/
LOCATION:HVRCF Field\, 2955 Kipling Ave\, Vaghan\, Ontario\, M5H 2N2\, Canada
END:VEVENT
BEGIN:VEVENT
DTSTART;TZID=America/Toronto:20250817T100000
DTEND;TZID=America/Toronto:20250817T160000
DTSTAMP:20260421T224217
CREATED:20250710T025233Z
LAST-MODIFIED:20250803T170647Z
UID:2836-1755424800-1755446400@hvrcf.org
SUMMARY:Summer Fun Fly and BBQ
DESCRIPTION:
URL:https://hvrcf.org/wp/event/summer-fun-fly-bbq/
LOCATION:HVRCF Field\, 2955 Kipling Ave\, Vaghan\, Ontario\, M5H 2N2\, Canada
END:VEVENT
BEGIN:VEVENT
DTSTART;TZID=America/Toronto:20251228T110000
DTEND;TZID=America/Toronto:20251228T130000
DTSTAMP:20260421T224217
CREATED:20260101T160014Z
LAST-MODIFIED:20251228T214524Z
UID:2907-1766919600-1766926800@hvrcf.org
SUMMARY:New Year’s Day Fun Fly
DESCRIPTION:
URL:https://hvrcf.org/wp/event/new-years-day-fun-fly-3/
LOCATION:HVRCF Field\, 2955 Kipling Ave\, Vaghan\, Ontario\, M5H 2N2\, Canada
CATEGORIES:Club events,Outdoors events
END:VEVENT
BEGIN:VEVENT
DTSTART;TZID=America/Toronto:20260101T110000
DTEND;TZID=America/Toronto:20260101T130000
DTSTAMP:20260421T224217
CREATED:20251228T215958Z
LAST-MODIFIED:20251228T220539Z
UID:2916-1767265200-1767272400@hvrcf.org
SUMMARY:New Year's Day Fun Fly
DESCRIPTION:Celebrate your first flight of the New Year with other members while enjoying some hot chocolate.
URL:https://hvrcf.org/wp/event/new-years-day-fun-fly-4/
LOCATION:HVRCF Field\, 2955 Kipling Ave\, Vaghan\, Ontario\, M5H 2N2\, Canada
END:VEVENT
END:VCALENDAR